BEGIN:VCALENDAR
VERSION:2.0
PRODID:icalendar-ruby
CALSCALE:GREGORIAN
METHOD:PUBLISH
BEGIN:VEVENT
DTSTAMP:20260421T143223Z
UID:40-1196616@faithcommunity170.tithelysetup5.com
DTSTART:20260927T223000Z
DTEND:20260927T234500Z
CLASS:PUBLIC
CREATED:20260421T100435
DESCRIPTION:
LAST-MODIFIED:20260421T100435
LOCATION:6801 S East Street\, Indianapolis\, IN 46227
SUMMARY:Taste and See - Walk Through the Old Testament
URL;VALUE=URI:https://fccindy.church/events/taste-and-see-walk-through-the-
 old-testament/2026-09-27
END:VEVENT
END:VCALENDAR
