BEGIN:VCALENDAR
VERSION:2.0
PRODID:icalendar-ruby
CALSCALE:GREGORIAN
METHOD:PUBLISH
BEGIN:VEVENT
DTSTAMP:20260421T225714Z
UID:40-1198949@faithcommunity170.tithelysetup5.com
DTSTART:20261101T233000Z
DTEND:20261102T004500Z
CLASS:PUBLIC
CREATED:20260421T175744
DESCRIPTION:
LAST-MODIFIED:20260421T175744
LOCATION:6801 S East Street\, Indianapolis\, IN 46227
SUMMARY:Taste and See - Walk Through the Old Testament
URL;VALUE=URI:https://fccindy.church/events/taste-and-see-walk-through-the-
 old-testament/2026-11-01
END:VEVENT
END:VCALENDAR
